BEGIN:VCALENDAR
VERSION:2.0
PRODID:iheid
X-WR-TIMEZONE:Europe/Zurich
BEGIN:VTIMEZONE
TZID:Europe/Zurich
X-LIC-LOCATION:Europe/Zurich
END:VTIMEZONE
BEGIN:VEVENT
UID:69e8fb34f1b7b
DTSTART:20260518T163000Z
SEQUENCE:0
TRANSP:OPAQUE
DTEND:20260518T193000Z
URL:https://knowledgegov.org/event/maggie-chon-translations-copyright-publi
 c-lecture-cocktail/
LOCATION:Villa Barton
SUMMARY:Maggie Chon\, Public Lecture & cocktail
CLASS:PUBLIC
DESCRIPTION:Maggie Chon\, Public Lecture &amp\; cocktail by Maggie Chon.\n\
 n\n\nEvent connection: https://knowledgegov.org/event/maggie-chon-translat
 ions-copyright-public-lecture-cocktail/
DTSTAMP:20260422T184540Z
END:VEVENT
END:VCALENDAR