BEGIN:VCALENDAR
VERSION:2.0
PRODID:iheid
X-WR-TIMEZONE:Europe/Zurich
BEGIN:VTIMEZONE
TZID:Europe/Zurich
X-LIC-LOCATION:Europe/Zurich
END:VTIMEZONE
BEGIN:VEVENT
UID:69ea5f07563e9
DTSTART:20251125T083000Z
SEQUENCE:0
TRANSP:OPAQUE
DTEND:20251125T093000Z
LOCATION:No location specified
SUMMARY:Development Policies and Practices Q&A - Middle-East and North Afri
 ca
CLASS:PUBLIC
DESCRIPTION:Development Policies and Practices Q&amp\;A - Middle-East and N
 orth Africa by Alexandre Dormeier Freire\, Alaa Adel Tartir.\n\n\n\nEvent 
 connection: 
DTSTAMP:20260423T200351Z
END:VEVENT
END:VCALENDAR