BEGIN:VCALENDAR
VERSION:2.0
PRODID:iheid
X-WR-TIMEZONE:Europe/Zurich
BEGIN:VTIMEZONE
TZID:Europe/Zurich
X-LIC-LOCATION:Europe/Zurich
END:VTIMEZONE
BEGIN:VEVENT
UID:69ea5f07556a7
DTSTART:20251112T140000Z
SEQUENCE:0
TRANSP:OPAQUE
DTEND:20251112T150000Z
LOCATION:No location specified
SUMMARY:Políticas y Prácticas del Desarrollo Q&A - América Latina
CLASS:PUBLIC
DESCRIPTION:Políticas y Prácticas del Desarrollo Q&amp\;A - América Lati
 na by Liliana Soler\, Molvina Zeballos\, Liliana Zamalloa\, Eduardo Toche\
 , Pilar De La Torre.\n\n\n\nEvent connection: 
DTSTAMP:20260423T200351Z
END:VEVENT
END:VCALENDAR