BEGIN:VCALENDAR
VERSION:2.0
PRODID:iheid
X-WR-TIMEZONE:Europe/Zurich
BEGIN:VTIMEZONE
TZID:Europe/Zurich
X-LIC-LOCATION:Europe/Zurich
END:VTIMEZONE
BEGIN:VEVENT
UID:69e916e42c9cb
DTSTART:20250505T103000Z
SEQUENCE:0
TRANSP:OPAQUE
DTEND:20250505T111500Z
LOCATION:No location specified
SUMMARY:Diplomacy\, Negotiation and Policy Q&A
CLASS:PUBLIC
DESCRIPTION:Diplomacy\, Negotiation and Policy Q&amp\;A by Jérôme Duberry
 \, Jimmye Johnson.\n\n\n\nEvent connection: 
DTSTAMP:20260422T204348Z
END:VEVENT
END:VCALENDAR