BEGIN:VCALENDAR
VERSION:2.0
PRODID:iheid
X-WR-TIMEZONE:Europe/Zurich
BEGIN:VTIMEZONE
TZID:Europe/Zurich
X-LIC-LOCATION:Europe/Zurich
END:VTIMEZONE
BEGIN:VEVENT
UID:69ea5f3186b75
DTSTART:20250407T103000Z
SEQUENCE:0
TRANSP:OPAQUE
DTEND:20250407T111500Z
LOCATION:No location specified
SUMMARY:Surviving the Cuts: Fundraising Beyond Public Donors Support
CLASS:PUBLIC
DESCRIPTION:Surviving the Cuts: Fundraising Beyond Public Donors Support by
  Matteo Guidotti\, Emilie Compignie.\n\n\n\nEvent connection: 
DTSTAMP:20260423T200433Z
END:VEVENT
END:VCALENDAR