BEGIN:VCALENDAR
VERSION:2.0
PRODID:iheid
X-WR-TIMEZONE:Europe/Zurich
BEGIN:VTIMEZONE
TZID:Europe/Zurich
X-LIC-LOCATION:Europe/Zurich
END:VTIMEZONE
BEGIN:VEVENT
UID:69ed77010154f
DTSTART:20250325T170000Z
SEQUENCE:0
TRANSP:OPAQUE
DTEND:20250325T183000Z
LOCATION:No location specified
SUMMARY:El desplome del sistema de cooperación internacional
CLASS:PUBLIC
DESCRIPTION:El desplome del sistema de cooperación internacional by Citlal
 i Ayala Martínez\, Jorge Balbis Pérez.\n\n\n\nEvent connection: 
DTSTAMP:20260426T042257Z
END:VEVENT
END:VCALENDAR