BEGIN:VCALENDAR
VERSION:2.0
PRODID:iheid
X-WR-TIMEZONE:Europe/Zurich
BEGIN:VTIMEZONE
TZID:Europe/Zurich
X-LIC-LOCATION:Europe/Zurich
END:VTIMEZONE
BEGIN:VEVENT
UID:69e4d4664a591
DTSTART:20250311T113000Z
SEQUENCE:0
TRANSP:OPAQUE
DTEND:20250311T121500Z
LOCATION:No location specified
SUMMARY:Mastering Fundraising Practices Q&A
CLASS:PUBLIC
DESCRIPTION:Mastering Fundraising Practices Q&amp\;A by Matteo Guidotti\, E
 milie Compignie.\n\n\n\nEvent connection: 
DTSTAMP:20260419T151102Z
END:VEVENT
END:VCALENDAR