BEGIN:VCALENDAR
VERSION:2.0
PRODID:iheid
X-WR-TIMEZONE:Europe/Zurich
BEGIN:VTIMEZONE
TZID:Europe/Zurich
X-LIC-LOCATION:Europe/Zurich
END:VTIMEZONE
BEGIN:VEVENT
UID:69e802445e3fa
DTSTART:20250303T113000Z
SEQUENCE:0
TRANSP:OPAQUE
DTEND:20250303T121500Z
LOCATION:No location specified
SUMMARY:Advocacy and International Public Affairs Q&A
CLASS:PUBLIC
DESCRIPTION:Advocacy and International Public Affairs Q&amp\;A by Davide Ro
 dogno\, Jérôme Duberry\, Jimmye Johnson.\n\n\n\nEvent connection: 
DTSTAMP:20260422T010332Z
END:VEVENT
END:VCALENDAR