BEGIN:VCALENDAR
VERSION:2.0
PRODID:iheid
X-WR-TIMEZONE:Europe/Zurich
BEGIN:VTIMEZONE
TZID:Europe/Zurich
X-LIC-LOCATION:Europe/Zurich
END:VTIMEZONE
BEGIN:VEVENT
UID:69ed45415819e
DTSTART:20250218T160000Z
SEQUENCE:0
TRANSP:OPAQUE
DTEND:20250218T164500Z
LOCATION:No location specified
SUMMARY:The Perfect Advocate - redux
CLASS:PUBLIC
DESCRIPTION:The Perfect Advocate - redux by Davide Rodogno\, Christophe Lé
 cureuil.\n\n\n\nEvent connection: 
DTSTAMP:20260426T005041Z
END:VEVENT
END:VCALENDAR