BEGIN:VCALENDAR
VERSION:2.0
PRODID:iheid
X-WR-TIMEZONE:Europe/Zurich
BEGIN:VTIMEZONE
TZID:Europe/Zurich
X-LIC-LOCATION:Europe/Zurich
END:VTIMEZONE
BEGIN:VEVENT
UID:69ed76e1b664f
DTSTART:20250225T193002Z
SEQUENCE:0
TRANSP:OPAQUE
DTEND:20250225T213002Z
LOCATION:Les Cinémas Du Grütli - Rue du Général-Dufour 16 - 1204 Genèv
 e
SUMMARY:Technology & the future of our societies - Ghost in the Shell
CLASS:PUBLIC
DESCRIPTION:Technology &amp\; the future of our societies - Ghost in the Sh
 ell by .\n\n\n\nEvent connection: 
DTSTAMP:20260426T042225Z
END:VEVENT
END:VCALENDAR