BEGIN:VCALENDAR
VERSION:2.0
PRODID:iheid
X-WR-TIMEZONE:Europe/Zurich
BEGIN:VTIMEZONE
TZID:Europe/Zurich
X-LIC-LOCATION:Europe/Zurich
END:VTIMEZONE
BEGIN:VEVENT
UID:69e80245164a3
DTSTART:20231129T113000Z
SEQUENCE:0
TRANSP:OPAQUE
DTEND:20231129T123000Z
LOCATION:No location specified
SUMMARY:Repensez les politiques et pratiques du développement en Afrique!
CLASS:PUBLIC
DESCRIPTION:Repensez les politiques et pratiques du développement en Afriq
 ue! by Dominique Rossier\, Sylvestre Ouedraogo et Drissa Ouattara.\n\n\n\n
 Event connection: 
DTSTAMP:20260422T010333Z
END:VEVENT
END:VCALENDAR